BEGIN:VCALENDAR
VERSION:2.0
PRODID:-//Book Fairies - ECPv6.15.20//NONSGML v1.0//EN
CALSCALE:GREGORIAN
METHOD:PUBLISH
X-WR-CALNAME:Book Fairies
X-ORIGINAL-URL:https://thebookfairies.org
X-WR-CALDESC:Events for Book Fairies
REFRESH-INTERVAL;VALUE=DURATION:PT1H
X-Robots-Tag:noindex
X-PUBLISHED-TTL:PT1H
BEGIN:VTIMEZONE
TZID:America/New_York
BEGIN:DAYLIGHT
TZOFFSETFROM:-0500
TZOFFSETTO:-0400
TZNAME:EDT
DTSTART:20250309T070000
END:DAYLIGHT
BEGIN:STANDARD
TZOFFSETFROM:-0400
TZOFFSETTO:-0500
TZNAME:EST
DTSTART:20251102T060000
END:STANDARD
BEGIN:DAYLIGHT
TZOFFSETFROM:-0500
TZOFFSETTO:-0400
TZNAME:EDT
DTSTART:20260308T070000
END:DAYLIGHT
BEGIN:STANDARD
TZOFFSETFROM:-0400
TZOFFSETTO:-0500
TZNAME:EST
DTSTART:20261101T060000
END:STANDARD
BEGIN:DAYLIGHT
TZOFFSETFROM:-0500
TZOFFSETTO:-0400
TZNAME:EDT
DTSTART:20270314T070000
END:DAYLIGHT
BEGIN:STANDARD
TZOFFSETFROM:-0400
TZOFFSETTO:-0500
TZNAME:EST
DTSTART:20271107T060000
END:STANDARD
END:VTIMEZONE
BEGIN:VEVENT
DTSTART;TZID=America/New_York:20260509T093000
DTEND;TZID=America/New_York:20260509T130000
DTSTAMP:20260423T101943
CREATED:20241102T020119Z
LAST-MODIFIED:20260304T171943Z
UID:8671-1778319000-1778331600@thebookfairies.org
SUMMARY:May Book Fair
DESCRIPTION:[vc_row][vc_column][vc_column_text]Register For May Book Fair \nBook Fairies hosts monthly Book Fairs for schools and organizations supporting under-resourced areas across Long Island and New York City. Attendees can hand pick an unlimited number of gently used\, high-interest\, age-appropriate books to support literacy programming.*Schools must have Title I status or have at least 50% of their student body eligible to receive free/reduced lunch. \nThe books will be separated into the following categories for you to choose from: \n\n\n\nBoard Books\nPicture Books – includes fiction and nonfiction\nElementary Chapter Books – includes fiction and nonfiction\nMiddle School Young Adult Books\nHigh School Young Adult Books\nClass Sets\nTeacher Resources\n\n\n\nBook Fair Session Times \nSession 1: 9:30 AM to 10:30 AM \nSession 2: 10:45 AM to 11:45 PM \nSession 3: 12:00 PM to 1:00 PM \nThings To Know \n\n\n\nThere is no limit to the number of books you can take.\nYou will need to keep count of what you take and tell us your final number of books before you leave the event.\nRemember to bring suitcases\, boxes\, plastic bins or tote bags to help you transport the books.\nOnly those registered may attend. If you need assistance at the event\, we will have volunteers available to help.\nRegistration fees are not refundable or transferable to another date. If you sign up and cannot attend\, you can have someone else attend in your place.\n\n\n\nRegister For May Book Fair[/vc_column_text][/vc_column][/vc_row]
URL:https://thebookfairies.org/calendar-event/may-book-fair/
LOCATION:Book Fairies Book Bank – New Location\, 220 Miller Place\, Hicksville\, NY\, 11801\, United States
CATEGORIES:Book Fairs
ATTACH;FMTTYPE=image/jpeg:https://thebookfairies.org/wp-content/uploads/2022/03/may.jpg
END:VEVENT
BEGIN:VEVENT
DTSTART;TZID=America/New_York:20260607T093000
DTEND;TZID=America/New_York:20260607T130000
DTSTAMP:20260423T101943
CREATED:20241102T020242Z
LAST-MODIFIED:20260322T222158Z
UID:8673-1780824600-1780837200@thebookfairies.org
SUMMARY:June Book Fair
DESCRIPTION:[vc_row][vc_column][vc_column_text][/vc_column_text][/vc_column][/vc_row][vc_row][vc_column][vc_column_text css=””] \nRegister For June Book Fair \nBook Fairies hosts monthly Book Fairs for schools and organizations supporting under-resourced areas across Long Island and New York City. Attendees can hand pick an unlimited number of gently used\, high-interest\, age-appropriate books to support literacy programming.*Schools must have Title I status or have at least 50% of their student body eligible to receive free/reduced lunch. \nThe books will be separated into the following categories for you to choose from: \n\n\n\nBoard Books\nPicture Books – includes fiction and nonfiction\nElementary Chapter Books – includes fiction and nonfiction\nMiddle School Young Adult Books\nHigh School Young Adult Books\nClass Sets\nTeacher Resources\n\n\n\nBook Fair Session Times \nSession 1: 9:30 AM to 10:30 AM \nSession 2: 10:45 AM to 11:45 PM \nSession 3: 12:00 PM to 1:00 PM \nThings To Know \n\n\n\nThere is no limit to the number of books you can take.\nYou will need to keep count of what you take and tell us your final number of books before you leave the event.\nRemember to bring suitcases\, boxes\, plastic bins or tote bags to help you transport the books.\nOnly those registered may attend. If you need assistance at the event\, we will have volunteers available to help.\nRegistration fees are not refundable or transferable to another date. If you sign up and cannot attend\, you can have someone else attend in your place.\n\n\n\nRegister For June Book Fair \n[/vc_column_text][/vc_column][/vc_row][vc_row][vc_column][vc_column_text][/vc_column_text][/vc_column][/vc_row]
URL:https://thebookfairies.org/calendar-event/june-book-fair/
LOCATION:Book Fairies Book Bank – New Location\, 220 Miller Place\, Hicksville\, NY\, 11801\, United States
CATEGORIES:Book Fairs
ATTACH;FMTTYPE=image/jpeg:https://thebookfairies.org/wp-content/uploads/2022/03/jun.jpg
END:VEVENT
BEGIN:VEVENT
DTSTART;TZID=America/New_York:20260716T093000
DTEND;TZID=America/New_York:20260716T130000
DTSTAMP:20260423T101943
CREATED:20260322T221859Z
LAST-MODIFIED:20260322T222317Z
UID:9884-1784194200-1784206800@thebookfairies.org
SUMMARY:July Book Fair
DESCRIPTION:[vc_row][vc_column][vc_column_text] \n[/vc_column_text][/vc_column][/vc_row][vc_row][vc_column][vc_column_text css=””] \nRegister For July Book Fair \nBook Fairies hosts monthly Book Fairs for schools and organizations supporting under-resourced areas across Long Island and New York City. Attendees can hand pick an unlimited number of gently used\, high-interest\, age-appropriate books to support literacy programming.*Schools must have Title I status or have at least 50% of their student body eligible to receive free/reduced lunch. \nThe books will be separated into the following categories for you to choose from: \n\n\n\nBoard Books\nPicture Books – includes fiction and nonfiction\nElementary Chapter Books – includes fiction and nonfiction\nMiddle School Young Adult Books\nHigh School Young Adult Books\nClass Sets\nTeacher Resources\n\n\n\nBook Fair Session Times \nSession 1: 9:30 AM to 10:30 AM \nSession 2: 10:45 AM to 11:45 PM \nSession 3: 12:00 PM to 1:00 PM \nThings To Know \n\n\n\nThere is no limit to the number of books you can take.\nYou will need to keep count of what you take and tell us your final number of books before you leave the event.\nRemember to bring suitcases\, boxes\, plastic bins or tote bags to help you transport the books.\nOnly those registered may attend. If you need assistance at the event\, we will have volunteers available to help.\nRegistration fees are not refundable or transferable to another date. If you sign up and cannot attend\, you can have someone else attend in your place.\n\n\n\nRegister For July Book Fair \n[/vc_column_text][/vc_column][/vc_row][vc_row][vc_column][vc_column_text] \n[/vc_column_text][/vc_column][/vc_row]
URL:https://thebookfairies.org/calendar-event/july-book-fair/
LOCATION:Book Fairies Book Bank – New Location\, 220 Miller Place\, Hicksville\, NY\, 11801\, United States
CATEGORIES:Book Fairs
ATTACH;FMTTYPE=image/jpeg:https://thebookfairies.org/wp-content/uploads/2022/03/apr.jpg
END:VEVENT
BEGIN:VEVENT
DTSTART;TZID=America/New_York:20260816T093000
DTEND;TZID=America/New_York:20260816T130000
DTSTAMP:20260423T101943
CREATED:20260322T222715Z
LAST-MODIFIED:20260322T222721Z
UID:9890-1786872600-1786885200@thebookfairies.org
SUMMARY:August Book Fair
DESCRIPTION:[vc_row][vc_column][vc_column_text]Register For August Book Fair \nBook Fairies hosts monthly Book Fairs for schools and organizations supporting under-resourced areas across Long Island and New York City. Attendees can hand pick an unlimited number of gently used\, high-interest\, age-appropriate books to support literacy programming.*Schools must have Title I status or have at least 50% of their student body eligible to receive free/reduced lunch. \nThe books will be separated into the following categories for you to choose from: \n\n\n\nBoard Books\nPicture Books – includes fiction and nonfiction\nElementary Chapter Books – includes fiction and nonfiction\nMiddle School Young Adult Books\nHigh School Young Adult Books\nClass Sets\nTeacher Resources\n\n\n\nBook Fair Session Times \nSession 1: 9:30 AM to 10:30 AM \nSession 2: 10:45 AM to 11:45 PM \nSession 3: 12:00 PM to 1:00 PM \nThings To Know \n\n\n\nThere is no limit to the number of books you can take.\nYou will need to keep count of what you take and tell us your final number of books before you leave the event.\nRemember to bring suitcases\, boxes\, plastic bins or tote bags to help you transport the books.\nOnly those registered may attend. If you need assistance at the event\, we will have volunteers available to help.\nRegistration fees are not refundable or transferable to another date. If you sign up and cannot attend\, you can have someone else attend in your place.\n\n\n\nRegister For August Book Fair[/vc_column_text][/vc_column][/vc_row]
URL:https://thebookfairies.org/calendar-event/august-book-fair/
LOCATION:Book Fairies Book Bank – New Location\, 220 Miller Place\, Hicksville\, NY\, 11801\, United States
CATEGORIES:Book Fairs
ATTACH;FMTTYPE=image/jpeg:https://thebookfairies.org/wp-content/uploads/2022/03/may.jpg
END:VEVENT
BEGIN:VEVENT
DTSTART;TZID=America/New_York:20260913T093000
DTEND;TZID=America/New_York:20260913T130000
DTSTAMP:20260423T101943
CREATED:20260322T222955Z
LAST-MODIFIED:20260322T223000Z
UID:9893-1789291800-1789304400@thebookfairies.org
SUMMARY:September Book Fair
DESCRIPTION:[vc_row][vc_column][vc_column_text] \n[/vc_column_text][/vc_column][/vc_row][vc_row][vc_column][vc_column_text css=””] \nRegister For September Book Fair \nBook Fairies hosts monthly Book Fairs for schools and organizations supporting under-resourced areas across Long Island and New York City. Attendees can hand pick an unlimited number of gently used\, high-interest\, age-appropriate books to support literacy programming.*Schools must have Title I status or have at least 50% of their student body eligible to receive free/reduced lunch. \nThe books will be separated into the following categories for you to choose from: \n\n\n\nBoard Books\nPicture Books – includes fiction and nonfiction\nElementary Chapter Books – includes fiction and nonfiction\nMiddle School Young Adult Books\nHigh School Young Adult Books\nClass Sets\nTeacher Resources\n\n\n\nBook Fair Session Times \nSession 1: 9:30 AM to 10:30 AM \nSession 2: 10:45 AM to 11:45 PM \nSession 3: 12:00 PM to 1:00 PM \nThings To Know \n\n\n\nThere is no limit to the number of books you can take.\nYou will need to keep count of what you take and tell us your final number of books before you leave the event.\nRemember to bring suitcases\, boxes\, plastic bins or tote bags to help you transport the books.\nOnly those registered may attend. If you need assistance at the event\, we will have volunteers available to help.\nRegistration fees are not refundable or transferable to another date. If you sign up and cannot attend\, you can have someone else attend in your place.\n\n\n\nRegister For September Book Fair \n[/vc_column_text][/vc_column][/vc_row][vc_row][vc_column][vc_column_text] \n[/vc_column_text][/vc_column][/vc_row]
URL:https://thebookfairies.org/calendar-event/september-book-fair/
LOCATION:Book Fairies Book Bank – New Location\, 220 Miller Place\, Hicksville\, NY\, 11801\, United States
CATEGORIES:Book Fairs
ATTACH;FMTTYPE=image/jpeg:https://thebookfairies.org/wp-content/uploads/2022/03/jun.jpg
END:VEVENT
BEGIN:VEVENT
DTSTART;TZID=America/New_York:20261003T093000
DTEND;TZID=America/New_York:20261003T130000
DTSTAMP:20260423T101943
CREATED:20260322T223955Z
LAST-MODIFIED:20260322T224000Z
UID:9896-1791019800-1791032400@thebookfairies.org
SUMMARY:October Book Fair
DESCRIPTION:[vc_row][vc_column][vc_column_text] \n[/vc_column_text][/vc_column][/vc_row][vc_row][vc_column][vc_column_text css=””] \nRegister For October Book Fair \nBook Fairies hosts monthly Book Fairs for schools and organizations supporting under-resourced areas across Long Island and New York City. Attendees can hand pick an unlimited number of gently used\, high-interest\, age-appropriate books to support literacy programming.*Schools must have Title I status or have at least 50% of their student body eligible to receive free/reduced lunch. \nThe books will be separated into the following categories for you to choose from: \n\n\n\nBoard Books\nPicture Books – includes fiction and nonfiction\nElementary Chapter Books – includes fiction and nonfiction\nMiddle School Young Adult Books\nHigh School Young Adult Books\nClass Sets\nTeacher Resources\n\n\n\nBook Fair Session Times \nSession 1: 9:30 AM to 10:30 AM \nSession 2: 10:45 AM to 11:45 PM \nSession 3: 12:00 PM to 1:00 PM \nThings To Know \n\n\n\nThere is no limit to the number of books you can take.\nYou will need to keep count of what you take and tell us your final number of books before you leave the event.\nRemember to bring suitcases\, boxes\, plastic bins or tote bags to help you transport the books.\nOnly those registered may attend. If you need assistance at the event\, we will have volunteers available to help.\nRegistration fees are not refundable or transferable to another date. If you sign up and cannot attend\, you can have someone else attend in your place.\n\n\n\nRegister For October Book Fair \n[/vc_column_text][/vc_column][/vc_row][vc_row][vc_column][vc_column_text] \n[/vc_column_text][/vc_column][/vc_row]
URL:https://thebookfairies.org/calendar-event/october-book-fair/
LOCATION:Book Fairies Book Bank – New Location\, 220 Miller Place\, Hicksville\, NY\, 11801\, United States
CATEGORIES:Book Fairs
ATTACH;FMTTYPE=image/jpeg:https://thebookfairies.org/wp-content/uploads/2022/03/apr.jpg
END:VEVENT
BEGIN:VEVENT
DTSTART;TZID=America/New_York:20261108T093000
DTEND;TZID=America/New_York:20261108T130000
DTSTAMP:20260423T101943
CREATED:20260322T224209Z
LAST-MODIFIED:20260322T224214Z
UID:9899-1794130200-1794142800@thebookfairies.org
SUMMARY:November Book Fair
DESCRIPTION:[vc_row][vc_column][vc_column_text]Register For November Book Fair \nBook Fairies hosts monthly Book Fairs for schools and organizations supporting under-resourced areas across Long Island and New York City. Attendees can hand pick an unlimited number of gently used\, high-interest\, age-appropriate books to support literacy programming.*Schools must have Title I status or have at least 50% of their student body eligible to receive free/reduced lunch. \nThe books will be separated into the following categories for you to choose from: \n\n\n\nBoard Books\nPicture Books – includes fiction and nonfiction\nElementary Chapter Books – includes fiction and nonfiction\nMiddle School Young Adult Books\nHigh School Young Adult Books\nClass Sets\nTeacher Resources\n\n\n\nBook Fair Session Times \nSession 1: 9:30 AM to 10:30 AM \nSession 2: 10:45 AM to 11:45 PM \nSession 3: 12:00 PM to 1:00 PM \nThings To Know \n\n\n\nThere is no limit to the number of books you can take.\nYou will need to keep count of what you take and tell us your final number of books before you leave the event.\nRemember to bring suitcases\, boxes\, plastic bins or tote bags to help you transport the books.\nOnly those registered may attend. If you need assistance at the event\, we will have volunteers available to help.\nRegistration fees are not refundable or transferable to another date. If you sign up and cannot attend\, you can have someone else attend in your place.\n\n\n\nRegister For November Book Fair[/vc_column_text][/vc_column][/vc_row]
URL:https://thebookfairies.org/calendar-event/november-book-fair/
LOCATION:Book Fairies Book Bank – New Location\, 220 Miller Place\, Hicksville\, NY\, 11801\, United States
CATEGORIES:Book Fairs
ATTACH;FMTTYPE=image/jpeg:https://thebookfairies.org/wp-content/uploads/2022/03/may.jpg
END:VEVENT
BEGIN:VEVENT
DTSTART;TZID=America/New_York:20261206T093000
DTEND;TZID=America/New_York:20261206T130000
DTSTAMP:20260423T101943
CREATED:20260322T224452Z
LAST-MODIFIED:20260322T224458Z
UID:9909-1796549400-1796562000@thebookfairies.org
SUMMARY:December Book Fair
DESCRIPTION:[vc_row][vc_column][vc_column_text]Register For December Book Fair \nBook Fairies hosts monthly Book Fairs for schools and organizations supporting under-resourced areas across Long Island and New York City. Attendees can hand pick an unlimited number of gently used\, high-interest\, age-appropriate books to support literacy programming.*Schools must have Title I status or have at least 50% of their student body eligible to receive free/reduced lunch. \nThe books will be separated into the following categories for you to choose from: \n\n\n\nBoard Books\nPicture Books – includes fiction and nonfiction\nElementary Chapter Books – includes fiction and nonfiction\nMiddle School Young Adult Books\nHigh School Young Adult Books\nClass Sets\nTeacher Resources\n\n\n\nBook Fair Session Times \nSession 1: 9:30 AM to 10:30 AM \nSession 2: 10:45 AM to 11:45 PM \nSession 3: 12:00 PM to 1:00 PM \nThings To Know \n\n\n\nThere is no limit to the number of books you can take.\nYou will need to keep count of what you take and tell us your final number of books before you leave the event.\nRemember to bring suitcases\, boxes\, plastic bins or tote bags to help you transport the books.\nOnly those registered may attend. If you need assistance at the event\, we will have volunteers available to help.\nRegistration fees are not refundable or transferable to another date. If you sign up and cannot attend\, you can have someone else attend in your place.\n\n\n\nRegister For December Book Fair[/vc_column_text][/vc_column][/vc_row]
URL:https://thebookfairies.org/calendar-event/december-book-fair/
LOCATION:Book Fairies Book Bank – New Location\, 220 Miller Place\, Hicksville\, NY\, 11801\, United States
CATEGORIES:Book Fairs
ATTACH;FMTTYPE=image/jpeg:https://thebookfairies.org/wp-content/uploads/2022/03/may.jpg
END:VEVENT
END:VCALENDAR