BEGIN:VCALENDAR
VERSION:2.0
PRODID:-//Book Fairies - ECPv6.15.20//NONSGML v1.0//EN
CALSCALE:GREGORIAN
METHOD:PUBLISH
X-WR-CALNAME:Book Fairies
X-ORIGINAL-URL:https://thebookfairies.org
X-WR-CALDESC:Events for Book Fairies
REFRESH-INTERVAL;VALUE=DURATION:PT1H
X-Robots-Tag:noindex
X-PUBLISHED-TTL:PT1H
BEGIN:VTIMEZONE
TZID:America/New_York
BEGIN:DAYLIGHT
TZOFFSETFROM:-0500
TZOFFSETTO:-0400
TZNAME:EDT
DTSTART:20250309T070000
END:DAYLIGHT
BEGIN:STANDARD
TZOFFSETFROM:-0400
TZOFFSETTO:-0500
TZNAME:EST
DTSTART:20251102T060000
END:STANDARD
BEGIN:DAYLIGHT
TZOFFSETFROM:-0500
TZOFFSETTO:-0400
TZNAME:EDT
DTSTART:20260308T070000
END:DAYLIGHT
BEGIN:STANDARD
TZOFFSETFROM:-0400
TZOFFSETTO:-0500
TZNAME:EST
DTSTART:20261101T060000
END:STANDARD
BEGIN:DAYLIGHT
TZOFFSETFROM:-0500
TZOFFSETTO:-0400
TZNAME:EDT
DTSTART:20270314T070000
END:DAYLIGHT
BEGIN:STANDARD
TZOFFSETFROM:-0400
TZOFFSETTO:-0500
TZNAME:EST
DTSTART:20271107T060000
END:STANDARD
END:VTIMEZONE
BEGIN:VEVENT
DTSTART;TZID=America/New_York:20261108T093000
DTEND;TZID=America/New_York:20261108T130000
DTSTAMP:20260423T161012
CREATED:20260322T224209Z
LAST-MODIFIED:20260322T224214Z
UID:9899-1794130200-1794142800@thebookfairies.org
SUMMARY:November Book Fair
DESCRIPTION:[vc_row][vc_column][vc_column_text]Register For November Book Fair \nBook Fairies hosts monthly Book Fairs for schools and organizations supporting under-resourced areas across Long Island and New York City. Attendees can hand pick an unlimited number of gently used\, high-interest\, age-appropriate books to support literacy programming.*Schools must have Title I status or have at least 50% of their student body eligible to receive free/reduced lunch. \nThe books will be separated into the following categories for you to choose from: \n\n\n\nBoard Books\nPicture Books – includes fiction and nonfiction\nElementary Chapter Books – includes fiction and nonfiction\nMiddle School Young Adult Books\nHigh School Young Adult Books\nClass Sets\nTeacher Resources\n\n\n\nBook Fair Session Times \nSession 1: 9:30 AM to 10:30 AM \nSession 2: 10:45 AM to 11:45 PM \nSession 3: 12:00 PM to 1:00 PM \nThings To Know \n\n\n\nThere is no limit to the number of books you can take.\nYou will need to keep count of what you take and tell us your final number of books before you leave the event.\nRemember to bring suitcases\, boxes\, plastic bins or tote bags to help you transport the books.\nOnly those registered may attend. If you need assistance at the event\, we will have volunteers available to help.\nRegistration fees are not refundable or transferable to another date. If you sign up and cannot attend\, you can have someone else attend in your place.\n\n\n\nRegister For November Book Fair[/vc_column_text][/vc_column][/vc_row]
URL:https://thebookfairies.org/calendar-event/november-book-fair/
LOCATION:Book Fairies Book Bank – New Location\, 220 Miller Place\, Hicksville\, NY\, 11801\, United States
CATEGORIES:Book Fairs
ATTACH;FMTTYPE=image/jpeg:https://thebookfairies.org/wp-content/uploads/2022/03/may.jpg
END:VEVENT
BEGIN:VEVENT
DTSTART;TZID=America/New_York:20261206T093000
DTEND;TZID=America/New_York:20261206T130000
DTSTAMP:20260423T161012
CREATED:20260322T224452Z
LAST-MODIFIED:20260322T224458Z
UID:9909-1796549400-1796562000@thebookfairies.org
SUMMARY:December Book Fair
DESCRIPTION:[vc_row][vc_column][vc_column_text]Register For December Book Fair \nBook Fairies hosts monthly Book Fairs for schools and organizations supporting under-resourced areas across Long Island and New York City. Attendees can hand pick an unlimited number of gently used\, high-interest\, age-appropriate books to support literacy programming.*Schools must have Title I status or have at least 50% of their student body eligible to receive free/reduced lunch. \nThe books will be separated into the following categories for you to choose from: \n\n\n\nBoard Books\nPicture Books – includes fiction and nonfiction\nElementary Chapter Books – includes fiction and nonfiction\nMiddle School Young Adult Books\nHigh School Young Adult Books\nClass Sets\nTeacher Resources\n\n\n\nBook Fair Session Times \nSession 1: 9:30 AM to 10:30 AM \nSession 2: 10:45 AM to 11:45 PM \nSession 3: 12:00 PM to 1:00 PM \nThings To Know \n\n\n\nThere is no limit to the number of books you can take.\nYou will need to keep count of what you take and tell us your final number of books before you leave the event.\nRemember to bring suitcases\, boxes\, plastic bins or tote bags to help you transport the books.\nOnly those registered may attend. If you need assistance at the event\, we will have volunteers available to help.\nRegistration fees are not refundable or transferable to another date. If you sign up and cannot attend\, you can have someone else attend in your place.\n\n\n\nRegister For December Book Fair[/vc_column_text][/vc_column][/vc_row]
URL:https://thebookfairies.org/calendar-event/december-book-fair/
LOCATION:Book Fairies Book Bank – New Location\, 220 Miller Place\, Hicksville\, NY\, 11801\, United States
CATEGORIES:Book Fairs
ATTACH;FMTTYPE=image/jpeg:https://thebookfairies.org/wp-content/uploads/2022/03/may.jpg
END:VEVENT
END:VCALENDAR